Package: MsQuality Version: 1.11.0 Command: /home/biocbuild/bbs-3.23-bioc/R/bin/R CMD INSTALL MsQuality StartedAt: 2025-11-06 15:35:00 -0500 (Thu, 06 Nov 2025) EndedAt: 2025-11-06 15:35:33 -0500 (Thu, 06 Nov 2025) EllapsedTime: 33.2 seconds RetCode: 0 Status: OK