Package: MsQuality Version: 1.9.2 Command: /Library/Frameworks/R.framework/Resources/bin/R CMD INSTALL MsQuality StartedAt: 2025-10-14 15:34:53 -0400 (Tue, 14 Oct 2025) EndedAt: 2025-10-14 15:35:40 -0400 (Tue, 14 Oct 2025) EllapsedTime: 46.8 seconds RetCode: 0 Status: OK