Package: MsQuality Version: 1.9.2 Command: /Library/Frameworks/R.framework/Resources/bin/R CMD build --keep-empty-dirs --no-resave-data MsQuality StartedAt: 2025-10-13 18:17:47 -0400 (Mon, 13 Oct 2025) EndedAt: 2025-10-13 18:19:46 -0400 (Mon, 13 Oct 2025) EllapsedTime: 118.4 seconds RetCode: 0 Status: OK PackageFile: MsQuality_1.9.2.tar.gz PackageFileSize: 4.244 MiB