Package: MsQuality Version: 1.9.2 Command: rm -rf MsQuality.buildbin-libdir && mkdir MsQuality.buildbin-libdir && /Users/biocbuild/BBS/utils/build-universal.sh MsQuality_1.9.2.tar.gz /Library/Frameworks/R.framework/Resources/bin/R MsQuality.buildbin-libdir StartedAt: 2025-10-14 02:55:56 -0400 (Tue, 14 Oct 2025) EndedAt: 2025-10-14 02:56:46 -0400 (Tue, 14 Oct 2025) EllapsedTime: 49.7 seconds RetCode: 0 Status: OK PackageFile: MsQuality_1.9.2.tgz PackageFileSize: 4.383 MiB