Package: MsFeatures Version: 1.17.1 Command: rm -rf MsFeatures.buildbin-libdir && mkdir MsFeatures.buildbin-libdir && F:\biocbuild\bbs-3.22-bioc\R\bin\R.exe CMD INSTALL --build --library=MsFeatures.buildbin-libdir MsFeatures_1.17.1.tar.gz StartedAt: 2025-08-15 10:46:20 -0400 (Fri, 15 Aug 2025) EndedAt: 2025-08-15 10:46:46 -0400 (Fri, 15 Aug 2025) EllapsedTime: 26.6 seconds RetCode: 0 Status: OK PackageFile: MsFeatures_1.17.1.zip PackageFileSize: 895.9 KiB