Package: MsFeatures Version: 1.19.0 Command: /home/biocbuild/bbs-3.23-bioc/R/bin/R CMD check --install=check:MsFeatures.install-out.txt --library=/home/biocbuild/bbs-3.23-bioc/R/site-library --timings MsFeatures_1.19.0.tar.gz StartedAt: 2025-11-21 01:46:02 -0500 (Fri, 21 Nov 2025) EndedAt: 2025-11-21 01:48:53 -0500 (Fri, 21 Nov 2025) EllapsedTime: 171.2 seconds RetCode: 0 Status: OK CheckDir: MsFeatures.Rcheck Warnings: 0