Package: MsExperiment Version: 1.11.1 Command: /home/biocbuild/R/R/bin/R CMD INSTALL MsExperiment StartedAt: 2025-10-23 20:59:52 -0000 (Thu, 23 Oct 2025) EndedAt: 2025-10-23 21:00:30 -0000 (Thu, 23 Oct 2025) EllapsedTime: 38.0 seconds RetCode: 0 Status: OK