Package: MsExperiment Version: 1.13.0 Command: /home/biocbuild/bbs-3.23-bioc/R/bin/R CMD build --keep-empty-dirs --no-resave-data MsExperiment StartedAt: 2025-11-05 18:53:28 -0500 (Wed, 05 Nov 2025) EndedAt: 2025-11-05 18:54:29 -0500 (Wed, 05 Nov 2025) EllapsedTime: 61.0 seconds RetCode: 0 Status: OK PackageFile: MsExperiment_1.13.0.tar.gz PackageFileSize: 1.917 MiB