Package: MsExperiment Version: 1.11.1 Command: /Library/Frameworks/R.framework/Resources/bin/R CMD INSTALL MsExperiment StartedAt: 2025-09-21 15:19:10 -0400 (Sun, 21 Sep 2025) EndedAt: 2025-09-21 15:19:23 -0400 (Sun, 21 Sep 2025) EllapsedTime: 12.4 seconds RetCode: 0 Status: OK