Package: MsDataHub Version: 1.9.0 Command: /home/biocbuild/R/R/bin/R CMD INSTALL MsDataHub StartedAt: 2025-10-20 20:40:06 -0000 (Mon, 20 Oct 2025) EndedAt: 2025-10-20 20:40:24 -0000 (Mon, 20 Oct 2025) EllapsedTime: 18.6 seconds RetCode: 0 Status: OK