Package: MsDataHub Version: 1.9.0 Command: /home/biocbuild/bbs-3.22-bioc/R/bin/R CMD INSTALL MsDataHub StartedAt: 2025-09-30 15:26:51 -0400 (Tue, 30 Sep 2025) EndedAt: 2025-09-30 15:27:04 -0400 (Tue, 30 Sep 2025) EllapsedTime: 13.9 seconds RetCode: 0 Status: OK