Package: MsDataHub Version: 1.9.0 Command: /home/biocbuild/bbs-3.22-bioc/R/bin/R CMD build --keep-empty-dirs --no-resave-data --md5 MsDataHub StartedAt: 2025-09-30 18:49:41 -0400 (Tue, 30 Sep 2025) EndedAt: 2025-09-30 18:59:37 -0400 (Tue, 30 Sep 2025) EllapsedTime: 595.7 seconds RetCode: 0 Status: OK PackageFile: MsDataHub_1.9.0.tar.gz PackageFileSize: 373.3 KiB