Package: MsDataHub Version: 1.9.0 Command: /Library/Frameworks/R.framework/Resources/bin/R CMD INSTALL MsDataHub StartedAt: 2025-09-30 15:22:42 -0400 (Tue, 30 Sep 2025) EndedAt: 2025-09-30 15:23:03 -0400 (Tue, 30 Sep 2025) EllapsedTime: 20.7 seconds RetCode: 0 Status: OK