Package: MsDataHub Version: 1.9.0 Command: /Library/Frameworks/R.framework/Resources/bin/R CMD build --keep-empty-dirs --no-resave-data MsDataHub StartedAt: 2025-09-30 17:55:53 -0400 (Tue, 30 Sep 2025) EndedAt: 2025-09-30 18:06:32 -0400 (Tue, 30 Sep 2025) EllapsedTime: 638.9 seconds RetCode: 0 Status: OK PackageFile: MsDataHub_1.9.0.tar.gz PackageFileSize: 372.3 KiB