Package: MsDataHub Version: 1.9.0 Command: /Library/Frameworks/R.framework/Resources/bin/R CMD INSTALL MsDataHub StartedAt: 2025-09-30 15:09:13 -0400 (Tue, 30 Sep 2025) EndedAt: 2025-09-30 15:09:19 -0400 (Tue, 30 Sep 2025) EllapsedTime: 6.0 seconds RetCode: 0 Status: OK