Package: MsBackendSql Version: 1.11.1 Command: /home/biocbuild/bbs-3.23-bioc/R/bin/R CMD INSTALL MsBackendSql StartedAt: 2025-11-07 15:14:41 -0500 (Fri, 07 Nov 2025) EndedAt: 2025-11-07 15:14:55 -0500 (Fri, 07 Nov 2025) EllapsedTime: 14.0 seconds RetCode: 0 Status: OK