Package: MsBackendSql Version: 1.11.1 Command: /home/biocbuild/bbs-3.23-bioc/R/bin/R CMD check --install=check:MsBackendSql.install-out.txt --library=/home/biocbuild/bbs-3.23-bioc/R/site-library --timings MsBackendSql_1.11.1.tar.gz StartedAt: 2025-11-08 01:44:00 -0500 (Sat, 08 Nov 2025) EndedAt: 2025-11-08 01:49:52 -0500 (Sat, 08 Nov 2025) EllapsedTime: 351.5 seconds RetCode: 0 Status: OK CheckDir: MsBackendSql.Rcheck Warnings: 0