Package: MsBackendRawFileReader Version: 1.17.0 Command: /home/biocbuild/bbs-3.23-bioc/R/bin/R CMD INSTALL MsBackendRawFileReader StartedAt: 2025-11-18 16:07:10 -0500 (Tue, 18 Nov 2025) EndedAt: 2025-11-18 16:07:20 -0500 (Tue, 18 Nov 2025) EllapsedTime: 9.9 seconds RetCode: 0 Status: OK