Package: MsBackendMsp Version: 1.15.0 Command: /home/biocbuild/bbs-3.23-bioc/R/bin/R CMD check --install=check:MsBackendMsp.install-out.txt --library=/home/biocbuild/bbs-3.23-bioc/R/site-library --timings MsBackendMsp_1.15.0.tar.gz StartedAt: 2025-11-08 01:43:18 -0500 (Sat, 08 Nov 2025) EndedAt: 2025-11-08 01:44:40 -0500 (Sat, 08 Nov 2025) EllapsedTime: 81.2 seconds RetCode: 0 Status: OK CheckDir: MsBackendMsp.Rcheck Warnings: 0