Package: MsBackendMsp Version: 1.15.0 Command: /home/biocbuild/bbs-3.23-bioc/R/bin/R CMD build --keep-empty-dirs --no-resave-data MsBackendMsp StartedAt: 2025-11-07 18:47:07 -0500 (Fri, 07 Nov 2025) EndedAt: 2025-11-07 18:47:23 -0500 (Fri, 07 Nov 2025) EllapsedTime: 16.0 seconds RetCode: 0 Status: OK PackageFile: MsBackendMsp_1.15.0.tar.gz PackageFileSize: 324.8 KiB