Package: MsBackendMsp Version: 1.13.0 Command: /Library/Frameworks/R.framework/Resources/bin/R CMD check --install=check:MsBackendMsp.install-out.txt --library=/Library/Frameworks/R.framework/Resources/library --no-vignettes --timings MsBackendMsp_1.13.0.tar.gz StartedAt: 2025-10-13 20:37:19 -0400 (Mon, 13 Oct 2025) EndedAt: 2025-10-13 20:37:50 -0400 (Mon, 13 Oct 2025) EllapsedTime: 31.5 seconds RetCode: 0 Status: OK CheckDir: MsBackendMsp.Rcheck Warnings: 0