Package: MsBackendMgf Version: 1.17.0 Command: /home/biocbuild/R/R/bin/R CMD INSTALL MsBackendMgf StartedAt: 2025-10-16 21:26:50 -0000 (Thu, 16 Oct 2025) EndedAt: 2025-10-16 21:27:05 -0000 (Thu, 16 Oct 2025) EllapsedTime: 14.7 seconds RetCode: 0 Status: OK