Package: MsBackendMgf Version: 1.17.0 Command: /home/biocbuild/R/R/bin/R CMD build --keep-empty-dirs --no-resave-data MsBackendMgf StartedAt: 2025-10-17 02:58:23 -0000 (Fri, 17 Oct 2025) EndedAt: 2025-10-17 02:58:46 -0000 (Fri, 17 Oct 2025) EllapsedTime: 23.0 seconds RetCode: 0 Status: OK PackageFile: MsBackendMgf_1.17.0.tar.gz PackageFileSize: 402.6 KiB