Package: MsBackendMgf Version: 1.17.0 Command: /home/biocbuild/bbs-3.22-bioc/R/bin/R CMD check --install=check:MsBackendMgf.install-out.txt --library=/home/biocbuild/bbs-3.22-bioc/R/site-library --timings MsBackendMgf_1.17.0.tar.gz StartedAt: 2025-10-11 02:14:05 -0400 (Sat, 11 Oct 2025) EndedAt: 2025-10-11 02:15:27 -0400 (Sat, 11 Oct 2025) EllapsedTime: 82.1 seconds RetCode: 0 Status: OK CheckDir: MsBackendMgf.Rcheck Warnings: 0