Package: MsBackendMgf Version: 1.19.0 Command: /home/biocbuild/bbs-3.23-bioc/R/bin/R CMD check --install=check:MsBackendMgf.install-out.txt --library=/home/biocbuild/bbs-3.23-bioc/R/site-library --timings MsBackendMgf_1.19.0.tar.gz StartedAt: 2025-11-15 01:50:15 -0500 (Sat, 15 Nov 2025) EndedAt: 2025-11-15 01:52:29 -0500 (Sat, 15 Nov 2025) EllapsedTime: 134.2 seconds RetCode: 0 Status: OK CheckDir: MsBackendMgf.Rcheck Warnings: 0