Package: MsBackendMgf Version: 1.19.0 Command: /home/biocbuild/bbs-3.23-bioc/R/bin/R CMD build --keep-empty-dirs --no-resave-data MsBackendMgf StartedAt: 2025-11-07 18:46:59 -0500 (Fri, 07 Nov 2025) EndedAt: 2025-11-07 18:47:16 -0500 (Fri, 07 Nov 2025) EllapsedTime: 17.0 seconds RetCode: 0 Status: OK PackageFile: MsBackendMgf_1.19.0.tar.gz PackageFileSize: 335.8 KiB