Package: MsBackendMetaboLights Version: 1.3.1 Command: rm -rf MsBackendMetaboLights.buildbin-libdir && mkdir MsBackendMetaboLights.buildbin-libdir && F:\biocbuild\bbs-3.22-bioc\R\bin\R.exe CMD INSTALL --build --library=MsBackendMetaboLights.buildbin-libdir MsBackendMetaboLights_1.3.1.tar.gz StartedAt: 2025-08-15 10:45:54 -0400 (Fri, 15 Aug 2025) EndedAt: 2025-08-15 10:47:09 -0400 (Fri, 15 Aug 2025) EllapsedTime: 75.0 seconds RetCode: 0 Status: OK PackageFile: MsBackendMetaboLights_1.3.1.zip PackageFileSize: 358 KiB