Package: MsBackendMetaboLights Version: 1.5.1 Command: /home/biocbuild/bbs-3.23-bioc/R/bin/R CMD check --install=check:MsBackendMetaboLights.install-out.txt --library=/home/biocbuild/bbs-3.23-bioc/R/site-library --timings MsBackendMetaboLights_1.5.1.tar.gz StartedAt: 2025-11-18 02:06:58 -0500 (Tue, 18 Nov 2025) EndedAt: 2025-11-18 02:46:58 -0500 (Tue, 18 Nov 2025) EllapsedTime: 2400.1 seconds RetCode: None Status: TIMEOUT CheckDir: MsBackendMetaboLights.Rcheck Warnings: NA