Package: MsBackendMetaboLights Version: 1.5.1 Command: /home/biocbuild/bbs-3.23-bioc/R/bin/R CMD build --keep-empty-dirs --no-resave-data MsBackendMetaboLights StartedAt: 2025-11-17 18:57:39 -0500 (Mon, 17 Nov 2025) EndedAt: 2025-11-17 18:58:25 -0500 (Mon, 17 Nov 2025) EllapsedTime: 46.0 seconds RetCode: 0 Status: OK PackageFile: MsBackendMetaboLights_1.5.1.tar.gz PackageFileSize: 311.1 KiB