Package: MsBackendMassbank Version: 1.17.1 Command: /home/biocbuild/R/R/bin/R CMD INSTALL MsBackendMassbank StartedAt: 2025-10-16 21:27:00 -0000 (Thu, 16 Oct 2025) EndedAt: 2025-10-16 21:27:16 -0000 (Thu, 16 Oct 2025) EllapsedTime: 15.4 seconds RetCode: 0 Status: OK