Package: MsBackendMassbank Version: 1.17.1 Command: /home/biocbuild/R/R/bin/R CMD build --keep-empty-dirs --no-resave-data MsBackendMassbank StartedAt: 2025-10-17 02:58:12 -0000 (Fri, 17 Oct 2025) EndedAt: 2025-10-17 02:58:38 -0000 (Fri, 17 Oct 2025) EllapsedTime: 26.0 seconds RetCode: 0 Status: OK PackageFile: MsBackendMassbank_1.17.1.tar.gz PackageFileSize: 465.9 KiB