Package: MsBackendMassbank Version: 1.17.1 Command: rm -rf MsBackendMassbank.buildbin-libdir && mkdir MsBackendMassbank.buildbin-libdir && F:\biocbuild\bbs-3.22-bioc\R\bin\R.exe CMD INSTALL --build --library=MsBackendMassbank.buildbin-libdir MsBackendMassbank_1.17.1.tar.gz StartedAt: 2025-08-15 10:45:52 -0400 (Fri, 15 Aug 2025) EndedAt: 2025-08-15 10:46:39 -0400 (Fri, 15 Aug 2025) EllapsedTime: 46.9 seconds RetCode: 0 Status: OK PackageFile: MsBackendMassbank_1.17.1.zip PackageFileSize: 621.8 KiB