Package: MsBackendMassbank Version: 1.17.1 Command: /home/biocbuild/bbs-3.22-bioc/R/bin/R CMD check --install=check:MsBackendMassbank.install-out.txt --library=/home/biocbuild/bbs-3.22-bioc/R/site-library --timings MsBackendMassbank_1.17.1.tar.gz StartedAt: 2025-10-07 02:03:34 -0400 (Tue, 07 Oct 2025) EndedAt: 2025-10-07 02:05:19 -0400 (Tue, 07 Oct 2025) EllapsedTime: 104.1 seconds RetCode: 0 Status: OK CheckDir: MsBackendMassbank.Rcheck Warnings: 0