Package: MsBackendMassbank Version: 1.19.0 Command: /home/biocbuild/bbs-3.23-bioc/R/bin/R CMD check --install=check:MsBackendMassbank.install-out.txt --library=/home/biocbuild/bbs-3.23-bioc/R/site-library --timings MsBackendMassbank_1.19.0.tar.gz StartedAt: 2025-11-22 01:43:32 -0500 (Sat, 22 Nov 2025) EndedAt: 2025-11-22 01:45:14 -0500 (Sat, 22 Nov 2025) EllapsedTime: 102.1 seconds RetCode: 0 Status: OK CheckDir: MsBackendMassbank.Rcheck Warnings: 0