Package: MsBackendMassbank Version: 1.19.0 Command: /home/biocbuild/bbs-3.23-bioc/R/bin/R CMD build --keep-empty-dirs --no-resave-data MsBackendMassbank StartedAt: 2025-11-19 18:54:05 -0500 (Wed, 19 Nov 2025) EndedAt: 2025-11-19 18:54:25 -0500 (Wed, 19 Nov 2025) EllapsedTime: 20.0 seconds RetCode: 0 Status: OK PackageFile: MsBackendMassbank_1.19.0.tar.gz PackageFileSize: 415.1 KiB