Package: MouseFM Version: 1.19.1 Command: /home/biocbuild/bbs-3.22-bioc/R/bin/R CMD check --install=check:MouseFM.install-out.txt --library=/home/biocbuild/bbs-3.22-bioc/R/site-library --timings MouseFM_1.19.1.tar.gz StartedAt: 2025-10-17 03:17:15 -0400 (Fri, 17 Oct 2025) EndedAt: 2025-10-17 03:23:26 -0400 (Fri, 17 Oct 2025) EllapsedTime: 370.3 seconds RetCode: 1 Status: ERROR CheckDir: MouseFM.Rcheck Warnings: NA