Package: MouseFM Version: 1.21.0 Command: /home/biocbuild/bbs-3.23-bioc/R/bin/R CMD build --keep-empty-dirs --no-resave-data MouseFM StartedAt: 2025-11-06 18:44:21 -0500 (Thu, 06 Nov 2025) EndedAt: 2025-11-06 18:45:17 -0500 (Thu, 06 Nov 2025) EllapsedTime: 56.0 seconds RetCode: 0 Status: OK PackageFile: MouseFM_1.21.0.tar.gz PackageFileSize: 772.8 KiB