Package: MouseFM Version: 1.19.1 Command: /Library/Frameworks/R.framework/Resources/bin/R CMD INSTALL MouseFM StartedAt: 2025-09-30 15:45:29 -0400 (Tue, 30 Sep 2025) EndedAt: 2025-09-30 15:45:55 -0400 (Tue, 30 Sep 2025) EllapsedTime: 25.7 seconds RetCode: 0 Status: OK