Package: MouseFM Version: 1.19.1 Command: /Library/Frameworks/R.framework/Resources/bin/R CMD build --keep-empty-dirs --no-resave-data MouseFM StartedAt: 2025-10-01 17:55:11 -0400 (Wed, 01 Oct 2025) EndedAt: 2025-10-01 17:56:56 -0400 (Wed, 01 Oct 2025) EllapsedTime: 105.2 seconds RetCode: 0 Status: OK PackageFile: MouseFM_1.19.1.tar.gz PackageFileSize: 767.9 KiB