Package: MouseFM Version: 1.19.1 Command: rm -rf MouseFM.buildbin-libdir && mkdir MouseFM.buildbin-libdir && /Users/biocbuild/BBS/utils/build-universal.sh MouseFM_1.19.1.tar.gz /Library/Frameworks/R.framework/Resources/bin/R MouseFM.buildbin-libdir StartedAt: 2025-10-01 01:53:42 -0400 (Wed, 01 Oct 2025) EndedAt: 2025-10-01 01:54:11 -0400 (Wed, 01 Oct 2025) EllapsedTime: 29.8 seconds RetCode: 0 Status: OK PackageFile: MouseFM_1.19.1.tgz PackageFileSize: 829.9 KiB