Package: MouseFM Version: 1.19.1 Maintainer: Matthias Munz MaintainerEmail: matthias.munz at gmx.de git_url: https://git.bioconductor.org/packages/MouseFM git_branch: devel git_last_commit: 91c5db4 git_last_commit_date: 2025-07-22 21:36:13 -0400 (Tue, 22 Jul 2025)