Package: MotifPeeker Version: 1.1.3 Command: /home/biocbuild/bbs-3.22-bioc/R/bin/R CMD INSTALL MotifPeeker StartedAt: 2025-10-01 15:33:24 -0400 (Wed, 01 Oct 2025) EndedAt: 2025-10-01 15:34:19 -0400 (Wed, 01 Oct 2025) EllapsedTime: 55.3 seconds RetCode: 0 Status: OK