Package: MotifPeeker Version: 1.3.1 Command: /Library/Frameworks/R.framework/Resources/bin/R CMD INSTALL MotifPeeker StartedAt: 2025-11-21 15:16:46 -0500 (Fri, 21 Nov 2025) EndedAt: 2025-11-21 15:17:02 -0500 (Fri, 21 Nov 2025) EllapsedTime: 16.4 seconds RetCode: 0 Status: OK