Package: MotifPeeker Version: 1.3.1 Command: /Library/Frameworks/R.framework/Resources/bin/R CMD build --keep-empty-dirs --no-resave-data MotifPeeker StartedAt: 2025-11-21 17:02:20 -0500 (Fri, 21 Nov 2025) EndedAt: 2025-11-21 17:02:44 -0500 (Fri, 21 Nov 2025) EllapsedTime: 24.3 seconds RetCode: 0 Status: OK PackageFile: MotifPeeker_1.3.1.tar.gz PackageFileSize: 3.358 MiB