Package: MotifPeeker Version: 1.3.1 Command: rm -rf MotifPeeker.buildbin-libdir && mkdir MotifPeeker.buildbin-libdir && /Users/biocbuild/BBS/utils/build-universal.sh MotifPeeker_1.3.1.tar.gz /Library/Frameworks/R.framework/Resources/bin/R MotifPeeker.buildbin-libdir StartedAt: 2025-11-21 23:41:17 -0500 (Fri, 21 Nov 2025) EndedAt: 2025-11-21 23:41:37 -0500 (Fri, 21 Nov 2025) EllapsedTime: 20.4 seconds RetCode: 0 Status: OK PackageFile: MotifPeeker_1.3.1.tgz PackageFileSize: 3.524 MiB