Package: MotifDb Version: 1.53.0 Command: /home/biocbuild/bbs-3.23-bioc/R/bin/R CMD INSTALL MotifDb StartedAt: 2025-11-20 15:27:11 -0500 (Thu, 20 Nov 2025) EndedAt: 2025-11-20 15:27:55 -0500 (Thu, 20 Nov 2025) EllapsedTime: 43.6 seconds RetCode: 0 Status: OK