Package: MotifDb Version: 1.52.0 Command: /Library/Frameworks/R.framework/Resources/bin/R CMD build --keep-empty-dirs --no-resave-data MotifDb StartedAt: 2025-10-30 00:31:02 -0400 (Thu, 30 Oct 2025) EndedAt: 2025-10-30 00:32:50 -0400 (Thu, 30 Oct 2025) EllapsedTime: 108.6 seconds RetCode: 0 Status: OK PackageFile: MotifDb_1.52.0.tar.gz PackageFileSize: 4.237 MiB