Package: MotifDb Version: 1.51.0 Command: /Library/Frameworks/R.framework/Resources/bin/R CMD INSTALL MotifDb StartedAt: 2025-10-13 15:17:23 -0400 (Mon, 13 Oct 2025) EndedAt: 2025-10-13 15:17:40 -0400 (Mon, 13 Oct 2025) EllapsedTime: 16.7 seconds RetCode: 0 Status: OK