Package: MotifDb Version: 1.51.0 Command: /Library/Frameworks/R.framework/Resources/bin/R CMD build --keep-empty-dirs --no-resave-data MotifDb StartedAt: 2025-10-14 17:06:02 -0400 (Tue, 14 Oct 2025) EndedAt: 2025-10-14 17:06:27 -0400 (Tue, 14 Oct 2025) EllapsedTime: 25.2 seconds RetCode: 0 Status: OK PackageFile: MotifDb_1.51.0.tar.gz PackageFileSize: 4.237 MiB