Package: MoonlightR Version: 1.35.0 Command: /home/biocbuild/R/R/bin/R CMD INSTALL MoonlightR StartedAt: 2025-10-16 22:19:10 -0000 (Thu, 16 Oct 2025) EndedAt: 2025-10-16 22:20:20 -0000 (Thu, 16 Oct 2025) EllapsedTime: 70.6 seconds RetCode: 0 Status: OK